Workbook

Sheet Sipariş Giriş
A5: FİRMA ADI : | F5: GÖNDEREN :
A6: İLGİLİ : | F6: TELEFON :
A7: TARİH : | B7: =TODAY() -> 46273 | F7: E-MAİL :
F8: REFERANS NO:
A10: ="Sayın" & " " & B6 & "," -> Sayın ,
A11: Firmamızdan talep etmiş olduğunuz ürünlere ait fiyat bilgisi aşağıda sunulmuştur. Teklifimizi olumlu karşılayacağınızı umar, iyi çalışmalar dileriz.
A12: Saygılarımızla,
A14: TEKLİF FORMU
A16: S.No | B16: Ü.Kodu | C16: Malzemenin Cinsi | D16: Birim | E16: Miktar | F16: Birim Fiyat | G16: İskonto | H16: NET Fiyat | I16: Tutar | J16: Para Birim
A17: 1 | C17: =IFERROR(VLOOKUP(B17,'Fiyat Listesi'!A:D,4,0),"") | D17: =IFERROR(VLOOKUP(B17,'Fiyat Listesi'!A:B,2,0),"") | F17: =IFERROR(VLOOKUP(B17,'Fiyat Listesi'!A:C,3,FALSE),"") | H17: =IFERROR(F17-(F17*G17),"") | I17: =IFERROR(H17*E17,"") | J17: =IFERROR(VLOOKUP(B17,'Fiyat Listesi'!A:E,5,FALSE),"")
A18: 2 | C18: =IFERROR(VLOOKUP(B18,'Fiyat Listesi'!A:D,4,0),"") | D18: =IFERROR(VLOOKUP(B18,'Fiyat Listesi'!A:B,2,0),"") | F18: =IFERROR(VLOOKUP(B18,'Fiyat Listesi'!A:C,3,FALSE),"") | H18: =IFERROR(F18-(F18*G18),"") | I18: =IFERROR(H18*E18,"") | J18: =IFERROR(VLOOKUP(B18,'Fiyat Listesi'!A:E,5,FALSE),"")
A19: 3 | C19: =IFERROR(VLOOKUP(B19,'Fiyat Listesi'!A:D,4,0),"") | D19: =IFERROR(VLOOKUP(B19,'Fiyat Listesi'!A:B,2,0),"") | F19: =IFERROR(VLOOKUP(B19,'Fiyat Listesi'!A:C,3,FALSE),"") | H19: =IFERROR(F19-(F19*G19),"") | I19: =IFERROR(H19*E19,"") | J19: =IFERROR(VLOOKUP(B19,'Fiyat Listesi'!A:E,5,FALSE),"")
A20: 4 | C20: =IFERROR(VLOOKUP(B20,'Fiyat Listesi'!A:D,4,0),"") | D20: =IFERROR(VLOOKUP(B20,'Fiyat Listesi'!A:B,2,0),"") | F20: =IFERROR(VLOOKUP(B20,'Fiyat Listesi'!A:C,3,FALSE),"") | H20: =IFERROR(F20-(F20*G20),"") | I20: =IFERROR(H20*E20,"") | J20: =IFERROR(VLOOKUP(B20,'Fiyat Listesi'!A:E,5,FALSE),"")
A21: 5 | C21: =IFERROR(VLOOKUP(B21,'Fiyat Listesi'!A:D,4,0),"") | D21: =IFERROR(VLOOKUP(B21,'Fiyat Listesi'!A:B,2,0),"") | F21: =IFERROR(VLOOKUP(B21,'Fiyat Listesi'!A:C,3,FALSE),"") | H21: =IFERROR(F21-(F21*G21),"") | I21: =IFERROR(H21*E21,"") | J21: =IFERROR(VLOOKUP(B21,'Fiyat Listesi'!A:E,5,FALSE),"")
A22: 6 | C22: =IFERROR(VLOOKUP(B22,'Fiyat Listesi'!A:D,4,0),"") | D22: =IFERROR(VLOOKUP(B22,'Fiyat Listesi'!A:B,2,0),"") | F22: =IFERROR(VLOOKUP(B22,'Fiyat Listesi'!A:C,3,FALSE),"") | H22: =IFERROR(F22-(F22*G22),"") | I22: =IFERROR(H22*E22,"") | J22: =IFERROR(VLOOKUP(B22,'Fiyat Listesi'!A:E,5,FALSE),"")
A23: 7 | C23: =IFERROR(VLOOKUP(B23,'Fiyat Listesi'!A:D,4,0),"") | D23: =IFERROR(VLOOKUP(B23,'Fiyat Listesi'!A:B,2,0),"") | F23: =IFERROR(VLOOKUP(B23,'Fiyat Listesi'!A:C,3,FALSE),"") | H23: =IFERROR(F23-(F23*G23),"") | I23: =IFERROR(H23*E23,"") | J23: =IFERROR(VLOOKUP(B23,'Fiyat Listesi'!A:E,5,FALSE),"")
A24: 8 | C24: =IFERROR(VLOOKUP(B24,'Fiyat Listesi'!A:D,4,0),"") | D24: =IFERROR(VLOOKUP(B24,'Fiyat Listesi'!A:B,2,0),"") | F24: =IFERROR(VLOOKUP(B24,'Fiyat Listesi'!A:C,3,FALSE),"") | H24: =IFERROR(F24-(F24*G24),"") | I24: =IFERROR(H24*E24,"") | J24: =IFERROR(VLOOKUP(B24,'Fiyat Listesi'!A:E,5,FALSE),"")
A25: 9 | C25: =IFERROR(VLOOKUP(B25,'Fiyat Listesi'!A:D,4,0),"") | D25: =IFERROR(VLOOKUP(B25,'Fiyat Listesi'!A:B,2,0),"") | F25: =IFERROR(VLOOKUP(B25,'Fiyat Listesi'!A:C,3,FALSE),"") | H25: =IFERROR(F25-(F25*G25),"") | I25: =IFERROR(H25*E25,"") | J25: =IFERROR(VLOOKUP(B25,'Fiyat Listesi'!A:E,5,FALSE),"")
A26: 10 | C26: =IFERROR(VLOOKUP(B26,'Fiyat Listesi'!A:D,4,0),"") | D26: =IFERROR(VLOOKUP(B26,'Fiyat Listesi'!A:B,2,0),"") | F26: =IFERROR(VLOOKUP(B26,'Fiyat Listesi'!A:C,3,FALSE),"") | H26: =IFERROR(F26-(F26*G26),"") | I26: =IFERROR(H26*E26,"") | J26: =IFERROR(VLOOKUP(B26,'Fiyat Listesi'!A:E,5,FALSE),"")
A27: 11 | C27: =IFERROR(VLOOKUP(B27,'Fiyat Listesi'!A:D,4,0),"") | D27: =IFERROR(VLOOKUP(B27,'Fiyat Listesi'!A:B,2,0),"") | F27: =IFERROR(VLOOKUP(B27,'Fiyat Listesi'!A:C,3,FALSE),"") | H27: =IFERROR(F27-(F27*G27),"") | I27: =IFERROR(H27*E27,"") | J27: =IFERROR(VLOOKUP(B27,'Fiyat Listesi'!A:E,5,FALSE),"")
A28: 12 | C28: =IFERROR(VLOOKUP(B28,'Fiyat Listesi'!A:D,4,0),"") | D28: =IFERROR(VLOOKUP(B28,'Fiyat Listesi'!A:B,2,0),"") | F28: =IFERROR(VLOOKUP(B28,'Fiyat Listesi'!A:C,3,FALSE),"") | H28: =IFERROR(F28-(F28*G28),"") | I28: =IFERROR(H28*E28,"") | J28: =IFERROR(VLOOKUP(B28,'Fiyat Listesi'!A:E,5,FALSE),"")
... A45: 29 | C45: =IFERROR(VLOOKUP(B45,'Fiyat Listesi'!A:D,4,0),"") | D45: =IFERROR(VLOOKUP(B45,'Fiyat Listesi'!A:B,2,0),"") | F45: =IFERROR(VLOOKUP(B45,'Fiyat Listesi'!A:C,3,FALSE),"") | H45: =IFERROR(F45-(F45*G45),"") | I45: =IFERROR(H45*E45,"") | J45: =IFERROR(VLOOKUP(B45,'Fiyat Listesi'!A:E,5,FALSE),"")
G46: GENEL TOPLAM | I46: =SUM(I17:I45) -> 0 | J46: =J17
G47: K.D.V. | H47: 0.2 | I47: =I46*H47 -> 0
G48: GENEL TOPLAM | I48: =SUM(I46:I47) -> 0 | J48: =J17
G50: TEKLİF ONAYI
A52: SATIŞ ŞARTLARI :
A53: ÖDEME
A54: TESLİMAT | B54: KESİN SİPARİŞLE TARAFINIZA BİLDİRİLECEKTİR
A55: NOT
A56: OPSİYON | B56: =B7+3 -> 46276

Sheet Fiyat Listesi
A1: MALZEME KODU | B1: Birim | C1: BİRİM FİYAT | D1: MALZEME AÇIKLAMASI | E1: PARA BİRİMİ
A2: ÇP 5022 | B2: ADET | C2: 810 | D2: 18X24X12 Plastik Pano Opak | E2: ₺
A3: ÇP 5001 | B3: ADET | C3: 930 | D3: 21X28X13 Plastik Pano Opak | E3: ₺
A4: ÇP 5010 | B4: ADET | C4: 1075 | D4: 25X30X14 Plastik Pano Opak | E4: ₺
A5: ÇP 5002 | B5: ADET | C5: 1185 | D5: 25*33*13 Plastik Pano Opak | E5: ₺
A6: ÇP 5002 Y | B6: ADET | C6: Sorunuz | D6: 33*25*13 Plastik Pano Opak | E6: ₺
A7: ÇP 5002 D | B7: ADET | C7: 1315 | D7: 25*35*15 Plastik Pano Opak | E7: ₺
A8: ÇP 5021 | B8: ADET | C8: 1460 | D8: 30*35*16,5 Plastik Pano Opak | E8: ₺
A9: ÇP 5003 | B9: ADET | C9: 1485 | D9: 30*40*16,5 Plastik Pano Opak | E9: ₺
A10: ÇP 5003 Y | B10: ADET | C10: Sorunuz | D10: 40*30*16,5 Plastik Pano Opak | E10: ₺
A11: ÇP 5003 D | B11: ADET | C11: 1785 | D11: 30*40*19,5 Plastik Pano Opak | E11: ₺
A12: ÇP 5003 ED | B12: ADET | C12: 1855 | D12: 30*40*22,5 Plastik Pano Opak | E12: ₺
A13: ÇP 5007 | B13: ADET | C13: 2190 | D13: 35*50*19,5 Plastik Pano Opak | E13: ₺
A14: ÇP 5004 | B14: ADET | C14: 2315 | D14: 40*50*17,5 Plastik Pano Opak | E14: ₺
A15: ÇP 5004 D | B15: ADET | C15: 2720 | D15: 40X50X24 Plastik Pano Opak | E15: ₺
A16: ÇP 5005 | B16: ADET | C16: 2815 | D16: 40*60*20 Plastik Pano Opak | E16: ₺
A17: ÇP 5005 D | B17: ADET | C17: 3250 | D17: 40*60*25 Plastik Pano Opak | E17: ₺
A18: ÇP 5008 | B18: ADET | C18: 4260 | D18: 50*60*23 Plastik Pano Opak | E18: ₺
A19: ÇP 5006 Y | B19: ADET | C19: 4460 | D19: 50*70*24,5 Plastik Pano Opak | E19: ₺
A20: ÇP 5006 | B20: ADET | C20: 5170 | D20: 50*70*24,5 Plastik Pano Opak | E20: ₺
A21: ÇP 5009 | B21: ADET | C21: 7330 | D21: 60*80*26 ,5 Plastik Pano Opak | E21: ₺
A22: ÇP 5023 | B22: ADET | C22: 23015 | D22: 75*100*32 Plastik Pano Opak | E22: ₺
... A26: ÇP 5012 | B26: ADET | C26: 1300 | D26: 25*33*13 PLASTIK PANO SEFFAF | E26: ₺
A27: ÇP 5012 Y | B27: ADET | C27: Sorunuz | D27: 33*25*13 PLASTIK PANO SEFFAF | E27: ₺
A28: ÇP 5012 D | B28: ADET | C28: 1385 | D28: 25X35X15 PLASTİK PANO ŞEFFAF | E28: ₺
A29: ÇP 5031 | B29: ADET | C29: 1565 | D29: 30*35*16,5 PLASTİK PANO ŞEFFAF | E29: ₺
A30: ÇP 5013 | B30: ADET | C30: 1605 | D30: 30*40*16,5 PLASTIK PANO SEFFAF | E30: ₺
A31: ÇP 5013 Y | B31: ADET | C31: Sorunuz | D31: 40*30*16,5 PLASTIK PANO SEFFAF | E31: ₺
A32: ÇP 5013 D | B32: ADET | C32: 1865 | D32: 30*40*19,5 SEFFAF PANO | E32: ₺
A33: ÇP 5013 ED | B33: ADET | C33: 1935 | D33: 30*40*22,5 SEFFAF PANO | E33: ₺
A34: ÇP 5017 | B34: ADET | C34: 2370 | D34: 35*50*19,5 PLASTIK SEFFAF PANO | E34: ₺
A35: ÇP 5014 | B35: ADET | C35: 2600 | D35: 40*50*17,5 PLASTIK PANO SEFFAF | E35: ₺
A36: ÇP 5014 D | B36: ADET | C36: 3085 | D36: 40X50X24 PLASTİK PANO ŞEFFAF | E36: ₺
A37: ÇP 5015 | B37: ADET | C37: 3175 | D37: 40*60*20 PLASTIK PANO SEFFAF | E37: ₺
A38: ÇP 5015 D | B38: ADET | C38: 3580 | D38: 40*60*25 PLASTIK PANO SEFFAF | E38: ₺
A39: ÇP 5018 | B39: ADET | C39: 4945 | D39: 50*60*23 ABS PLASTIK PANO SEFF | E39: ₺
A40: ÇP 5016 Y | B40: ADET | C40: 5040 | D40: 50*70*24,5 PLASTIK ŞEFFAF PANO | E40: ₺
A41: ÇP 5016 | B41: ADET | C41: 5615 | D41: 50*70*24,5 SEFFAF PLST PANO | E41: ₺
A42: ÇP 5019 | B42: ADET | C42: 8205 | D42: 60*80*26,5 ABS PLASTIK PANO SEFF | E42: ₺
A43: ÇP 5100 | B43: ADET | C43: 1255 | D43: 18*24*12 PLST 1*6 MOD PANO OPAK | E43: ₺
... A480: ÇP 534 | B480: ADET | C480: 6910 | D480: 40*60*20 SANT TRF SYÇ PRIZ PANO | E480: ₺
A481: ÇP 539 E | B481: ADET | C481: 4400 | D481: 30,5*64*14,5 TRF. S.A ve S.Ü Takılabilir Villa Tipi Polyester Syç Kutusu
A482: ÇP 535 E | B482: ADET | C482: 2175 | D482: 28*55*20 TRF ELK SYÇ+8 SIG IP6 | E482: ₺
A483: ÇP 536 E | B483: ADET | C483: 2175 | D483: 28*55*20 TRF ELK SYÇ SIG YRI Y | E483: ₺
A484: ÇP 537 E | B484: ADET | C484: 1265 | D484: 19*37*18 MNF ELK SYÇ +2 SIG IP | E484: ₺
A485: ÇP 538 E | B485: ADET | C485: 1265 | D485: 19*37*18 MNF ELK SYÇ SIG YRI Y | E485: ₺
A486: ÇP 515 | B486: ADET | C486: 1250 | D486: 23*43*12 POLY. NH KOFRA KUTUSU KAİDESİZ | E486: ₺
A487: ÇP 514 | B487: ADET | C487: 2000 | D487: 23*42*12 POLY.KOFRA KUTUSU KAI | E487: ₺
A488: ÇP 513 | B488: ADET | C488: 2785 | D488: 160 A YÜK KESİCİLİ KOFRA KUTUSU | E488: ₺
A489: ÇP 513 R | B489: ADET | C489: 3000 | D489: Yük Kesicili Kofra 2 Adet Rakorlu | E489: ₺
A490: ÇP 516 | B490: ADET | C490: 1900 | D490: 22*30*12 00 BOY NH TAKILABILIR BOŞ | E490: ₺
A491: ÇP 517 | B491: ADET | C491: 7400 | D491: 30*42*15 1 BOY NH TAKILABILIR | E491: ₺
A492: ÇP 518 | B492: ADET | C492: 9400 | D492: 37*58*18 2 BOY NH TAKILABILIR | E492: ₺
A493: ÇP 519 | B493: ADET | C493: 11000 | D493: 44*69*19 3 BOY NH TAKILABILIR | E493: ₺
... A583: ÇP 203015 K | B583: ADET | C583: 1600 | D583: 20x30x15 EKO SERİSİ DİKEY PANO | E583: ₺
A584: ÇP 253015 K | B584: ADET | C584: Sorunuz | D584: 25x30x15 EKO SERİSİ DİKEY PANO | E584: ₺
A585: ÇP 303515 K | B585: ADET | C585: Sorunuz | D585: 30x35x15 EKO SERİSİ DİKEY PANO | E585: ₺
A586: ÇP 303520 K | B586: ADET | C586: 2450 | D586: 30x35x20 EKO SERİSİ DİKEY PANO | E586: ₺
A587: ÇP 304015 K | B587: ADET | C587: Sorunuz | D587: 30x40x15 EKO SERİSİ DİKEY PANO | E587: ₺
A588: ÇP 304020 K | B588: ADET | C588: 2760 | D588: 30x40x20 EKO SERİSİ DİKEY PANO | E588: ₺
A589: ÇP 304025 K | B589: ADET | C589: Sorunuz | D589: 30x40x25 EKO SERİSİ DİKEY PANO | E589: ₺
A590: ÇP 354515 K | B590: ADET | C590: 3200 | D590: 35x45x15 EKO SERİSİ DİKEY PANO | E590: ₺
A591: ÇP 354520 K | B591: ADET | C591: 3440 | D591: 35x45x20 EKO SERİSİ DİKEY PANO | E591: ₺
A592: ÇP 354525 K | B592: ADET | C592: 3680 | D592: 35x45x25 EKO SERİSİ DİKEY PANO | E592: ₺
A593: ÇP 405020 K | B593: ADET | C593: 4200 | D593: 40x50x20 EKO SERİSİ DİKEY PANO | E593: ₺
A594: ÇP 405025 K | B594: ADET | C594: Sorunuz | D594: 40x50x25 EKO SERİSİ DİKEY PANO | E594: ₺
A595: ÇP 406020 K | B595: ADET | C595: Sorunuz | D595: 40x60x20 EKO SERİSİ DİKEY PANO | E595: ₺
A596: ÇP 406025 K | B596: ADET | C596: Sorunuz | D596: 40x60x25 EKO SERİSİ DİKEY PANO | E596: ₺
A597: ÇP 406030 K | B597: ADET | C597: Sorunuz | D597: 40x60x30 EKO SERİSİ DİKEY PANO | E597: ₺
A598: ÇP 506025 K | B598: ADET | C598: Sorunuz | D598: 50x60x25 EKO SERİSİ DİKEY PANO | E598: ₺
A599: ÇP 507020 K | B599: ADET | C599: Sorunuz | D599: 50x70x20 EKO SERİSİ DİKEY PANO | E599: ₺
A600: ÇP 507025 K | B600: ADET | C600: Sorunuz | D600: 50x70x25 EKO SERİSİ DİKEY PANO | E600: ₺
A601: ÇP 607020 K | B601: ADET | C601: Sorunuz | D601: 60x70x20 EKO SERİSİ DİKEY PANO | E601: ₺
A602: ÇP 607030 K | B602: ADET | C602: Sorunuz | D602: 60x70x30 EKO SERİSİ DİKEY PANO | E602: ₺
A603: ÇP 608020 K | B603: ADET | C603: 8950 | D603: 60x80x20 EKO SERİSİ DİKEY PANO | E603: ₺
A604: ÇP 608025 K | B604: ADET | C604: Sorunuz | D604: 60x80x25 EKO SERİSİ DİKEY PANO | E604: ₺
A605: ÇP 609020 K | B605: ADET | C605: Sorunuz | D605: 60x90x20 EKO SERİSİ DİKEY PANO | E605: ₺
A606: ÇP 609025 K | B606: ADET | C606: Sorunuz | D606: 60x90x25 EKO SERİSİ DİKEY PANO | E606: ₺
A607: ÇP 609030 K | B607: ADET | C607: Sorunuz | D607: 60x90x30 EKO SERİSİ DİKEY PANO | E607: ₺
A608: ÇP 6010020 K | B608: ADET | C608: 10650 | D608: 60x100x20EKO SERİSİ DİKEY PANO | E608: ₺
A609: ÇP 6010030 K | B609: ADET | C609: Sorunuz | D609: 60x100x30 EKO SERİSİ DİKEY PANO | E609: ₺
A610: ÇP 303015 KE | B610: ADET | C610: 3240 | D610: Taban Saclı Metal Pano 30X30X15 | E610: ₺
A611: ÇP 303020 KE | B611: ADET | C611: 3590 | D611: Taban Saclı Metal Pano 30X30X20 | E611: ₺
A612: ÇP 303515 KE | B612: ADET | C612: 3650 | D612: Taban Saclı Metal Pano 30X35X15 | E612: ₺
A613: ÇP 303520 KE | B613: ADET | C613: 3930 | D613: Taban Saclı Metal Pano 30X35X20 | E613: ₺
A614: ÇP 304015 KE | B614: ADET | C614: 4000 | D614: Taban Saclı Metal Pano 30X40X15 | E614: ₺
A615: ÇP 304020 KE | B615: ADET | C615: 4280 | D615: Taban Saclı Metal Pano 30X40X20 | E615: ₺
A616: ÇP 304025 KE | B616: ADET | C616: 4550 | D616: Taban Saclı Metal Pano 30X40X25 | E616: ₺
A617: ÇP 354515 KE | B617: ADET | C617: 4760 | D617: Taban Saclı Metal Pano 35X45X15 | E617: ₺
A618: ÇP 354520 KE | B618: ADET | C618: 4900 | D618: Taban Saclı Metal Pano 35X45X20 | E618: ₺
A619: ÇP 354525 KE | B619: ADET | C619: 5100 | D619: Taban Saclı Metal Pano 35X45X25 | E619: ₺
A620: ÇP 404020 KE | B620: ADET | C620: 5250 | D620: Taban Saclı Metal Pano 40X40X20 | E620: ₺
A621: ÇP 405020 KE | B621: ADET | C621: 5800 | D621: Taban Saclı Metal Pano 40X50X20 | E621: ₺
... A641: ÇP 608030 KE | B641: ADET | C641: 11500 | D641: Taban Saclı Metal Pano 60X80X30 | E641: ₺
A642: ÇP 609020 KE | B642: ADET | C642: Sorunuz | D642: Taban Saclı Metal Pano 60X90X20 | E642: ₺
A643: ÇP 609025 KE | B643: ADET | C643: 12300 | D643: Taban Saclı Metal Pano 60X90X25 | E643: ₺
A644: ÇP 609030 KE | B644: ADET | C644: 15000 | D644: Taban Saclı Metal Pano 60X90X30 | E644: ₺
A645: ÇP 6010020 KE | B645: ADET | C645: Sorunuz | D645: Taban Saclı Metal Pano 60X100X20 | E645: ₺
A646: ÇP 6010025 KE | B646: ADET | C646: 15100 | D646: Taban Saclı Metal Pano 60X100X25 | E646: ₺
A647: ÇP 6010030 KE | B647: ADET | C647: 15300 | D647: Taban Saclı Metal Pano 60X100X30 | E647: ₺
...
